BEGIN:VCALENDAR
VERSION:2.0
PRODID:SchoolNow
CALSCALE:GREGORIAN
BEGIN:VEVENT
UID:f5f7a158-266b-11ee-b14b-0a58a9feac02
DTSTAMP:20230719T202720Z
SUMMARY:KHS Picture Retakes
URL;VALUE=URI:https://www.arbor145.org/calendar/4501303/khs-fall-picture-re
 takes
DTSTART;VALUE=DATE:20231114
DTEND;VALUE=DATE:20231115
END:VEVENT
END:VCALENDAR
