BEGIN:VCALENDAR
VERSION:2.0
PRODID:SchoolNow
CALSCALE:GREGORIAN
BEGIN:VEVENT
UID:51b7d18e-266c-11ee-a880-0a58a9feac02
DTSTAMP:20230719T194156Z
SUMMARY:Parent Teacher Conference
URL;VALUE=URI:https://www.arbor145.org/calendar/4501304/parent-teacher-conf
 erence
DTSTART:20231120T180000Z
DTEND:20231120T223000Z
END:VEVENT
END:VCALENDAR
