BEGIN:VCALENDAR
VERSION:2.0
PRODID:SchoolNow
CALSCALE:GREGORIAN
BEGIN:VEVENT
UID:6a6e4b2c-266c-11ee-914d-0a58a9feac02
DTSTAMP:20230719T194237Z
SUMMARY:Parent Teacher Conference
URL;VALUE=URI:https://www.arbor145.org/calendar/4501305/parent-teacher-conf
 erence
DTSTART:20231121T000000Z
DTEND:20231121T020000Z
END:VEVENT
END:VCALENDAR
