BEGIN:VCALENDAR
VERSION:2.0
PRODID:SchoolNow
CALSCALE:GREGORIAN
BEGIN:VEVENT
UID:9129b120-266c-11ee-ab04-0a58a9feac02
DTSTAMP:20230719T194342Z
SUMMARY:Parent Teacher Confernece
URL;VALUE=URI:https://www.arbor145.org/calendar/4501306/parent-teacher-conf
 ernece
DTSTART:20231121T140000Z
DTEND:20231121T190000Z
END:VEVENT
END:VCALENDAR
