BEGIN:VCALENDAR
VERSION:2.0
PRODID:SchoolNow
CALSCALE:GREGORIAN
BEGIN:VEVENT
UID:e56a0a64-266c-11ee-8eb4-029af40bd955
DTSTAMP:20230719T201004Z
SUMMARY:KHS No Preschool Session/11:30am Dismissal for KN
URL;VALUE=URI:https://www.arbor145.org/calendar/4501307/no-preschool-sessio
 n-11-30am-dismissal-for-kn
DTSTART;VALUE=DATE:20231221
DTEND;VALUE=DATE:20231222
END:VEVENT
END:VCALENDAR
