BEGIN:VCALENDAR
VERSION:2.0
PRODID:SchoolNow
CALSCALE:GREGORIAN
BEGIN:VEVENT
UID:fe13df54-266c-11ee-813a-02391457e42b
DTSTAMP:20230719T201039Z
SUMMARY:KHS Star 360 Testing
URL;VALUE=URI:https://www.arbor145.org/calendar/4501308/star-360-testing
DTSTART;VALUE=DATE:20240116
DTEND;VALUE=DATE:20240118
END:VEVENT
END:VCALENDAR
