BEGIN:VCALENDAR
VERSION:2.0
PRODID:SchoolNow
CALSCALE:GREGORIAN
BEGIN:VEVENT
UID:16493556-266d-11ee-9b78-0a58a9feac02
DTSTAMP:20230719T194726Z
SUMMARY:KHS Aimsweb Testing
URL;VALUE=URI:https://www.arbor145.org/calendar/4501309/khs-aimsweb-testing
DTSTART;VALUE=DATE:20240118
DTEND;VALUE=DATE:20240120
END:VEVENT
END:VCALENDAR
