BEGIN:VCALENDAR
VERSION:2.0
PRODID:SchoolNow
CALSCALE:GREGORIAN
BEGIN:VEVENT
UID:52938656-266d-11ee-87f8-029af40bd955
DTSTAMP:20230719T201055Z
SUMMARY:KHS Morning PK Screening/Only Session 2 in Attendance
URL;VALUE=URI:https://www.arbor145.org/calendar/4501310/mornig-pk-screening
 -only-session-2-in-attendance
DTSTART;VALUE=DATE:20240119
DTEND;VALUE=DATE:20240120
END:VEVENT
END:VCALENDAR
