BEGIN:VCALENDAR
VERSION:2.0
PRODID:SchoolNow
CALSCALE:GREGORIAN
BEGIN:VEVENT
UID:843934da-266d-11ee-8013-0a58a9feac02
DTSTAMP:20230719T201106Z
SUMMARY:KHS Afternoon PK Screening/Only Session 1 in Attendance
URL;VALUE=URI:https://www.arbor145.org/calendar/4501311/afternoon-pk-screen
 ing-only-session-1-in-attendance
DTSTART;VALUE=DATE:20240216
DTEND;VALUE=DATE:20240217
END:VEVENT
END:VCALENDAR
