BEGIN:VCALENDAR
VERSION:2.0
PRODID:SchoolNow
CALSCALE:GREGORIAN
BEGIN:VEVENT
UID:a06700e2-266d-11ee-b0b6-0a58a9feac02
DTSTAMP:20230719T195215Z
SUMMARY:KHS KIDS 105th Day Data Reporting
URL;VALUE=URI:https://www.arbor145.org/calendar/4501312/kids-105th-day-data
 -reporting
DTSTART;VALUE=DATE:20240220
DTEND;VALUE=DATE:20240221
END:VEVENT
END:VCALENDAR
