BEGIN:VCALENDAR
VERSION:2.0
PRODID:SchoolNow
CALSCALE:GREGORIAN
BEGIN:VEVENT
UID:e304bf98-266d-11ee-a67c-0a58a9feac02
DTSTAMP:20230719T201119Z
SUMMARY:KHS Morning PK Screening/Only Session 2 in Attendance
URL;VALUE=URI:https://www.arbor145.org/calendar/4501313/morning-pk-screenin
 g-only-session-2-in-attendance
DTSTART;VALUE=DATE:20240315
DTEND;VALUE=DATE:20240316
END:VEVENT
END:VCALENDAR
