BEGIN:VCALENDAR
VERSION:2.0
PRODID:SchoolNow
CALSCALE:GREGORIAN
BEGIN:VEVENT
UID:fc150416-266d-11ee-8ced-0a58a9feac02
DTSTAMP:20230719T195351Z
SUMMARY:KHS Spring Pictures
URL;VALUE=URI:https://www.arbor145.org/calendar/4501314/khs-spring-pictures
DTSTART;VALUE=DATE:20240404
DTEND;VALUE=DATE:20240405
END:VEVENT
END:VCALENDAR
