BEGIN:VCALENDAR
VERSION:2.0
PRODID:SchoolNow
CALSCALE:GREGORIAN
BEGIN:VEVENT
UID:169b3c60-266e-11ee-92b9-0a58a9feac02
DTSTAMP:20230719T201131Z
SUMMARY:KHS Afternoon PK Screening/Only Session 1 in Attendance
URL;VALUE=URI:https://www.arbor145.org/calendar/4501315/afternoon-pk-screen
 ing-only-session-1-in-attendance
DTSTART;VALUE=DATE:20240419
DTEND;VALUE=DATE:20240420
END:VEVENT
END:VCALENDAR
