BEGIN:VCALENDAR
VERSION:2.0
PRODID:SchoolNow
CALSCALE:GREGORIAN
BEGIN:VEVENT
UID:2946af34-266e-11ee-a7bb-0a58a9feac02
DTSTAMP:20230719T201515Z
SUMMARY:KHS Step Up to AES
URL;VALUE=URI:https://www.arbor145.org/calendar/4501316/khs-step-up-to-aes
DTSTART;VALUE=DATE:20240514
DTEND;VALUE=DATE:20240515
END:VEVENT
END:VCALENDAR
