BEGIN:VCALENDAR
VERSION:2.0
PRODID:SchoolNow
CALSCALE:GREGORIAN
BEGIN:VEVENT
UID:476dd6a4-266e-11ee-b64a-029af40bd955
DTSTAMP:20230719T195558Z
SUMMARY:KHS Star 360 Testing
URL;VALUE=URI:https://www.arbor145.org/calendar/4501317/khs-star-360-testin
 g
DTSTART;VALUE=DATE:20240515
DTEND;VALUE=DATE:20240517
END:VEVENT
END:VCALENDAR
