BEGIN:VCALENDAR
VERSION:2.0
PRODID:SchoolNow
CALSCALE:GREGORIAN
BEGIN:VEVENT
UID:647c1a1c-266e-11ee-a7e4-0a58a9feac02
DTSTAMP:20230719T201157Z
SUMMARY:KHS No Preschool in Session/PK Screening All Day
URL;VALUE=URI:https://www.arbor145.org/calendar/4501318/no-preschool-in-ses
 sion-pk-screening-all-day
DTSTART;VALUE=DATE:20240517
DTEND;VALUE=DATE:20240518
END:VEVENT
END:VCALENDAR
