BEGIN:VCALENDAR
VERSION:2.0
PRODID:SchoolNow
CALSCALE:GREGORIAN
BEGIN:VEVENT
UID:987ba684-266e-11ee-9263-0a2b130c3785
DTSTAMP:20230719T201957Z
SUMMARY:KHS Aimsweb Testing
URL;VALUE=URI:https://www.arbor145.org/calendar/4501319/khs-aimsweb-testing
DTSTART;VALUE=DATE:20240520
DTEND;VALUE=DATE:20240522
END:VEVENT
END:VCALENDAR
