BEGIN:VCALENDAR
VERSION:2.0
PRODID:SchoolNow
CALSCALE:GREGORIAN
BEGIN:VEVENT
UID:ae66b70e-266e-11ee-8a97-0a32f09d2d93
DTSTAMP:20230719T200541Z
SUMMARY:KHS KIDS 170th Day Data Reporting
URL;VALUE=URI:https://www.arbor145.org/calendar/4501320/khs-kids-170th-day-
 data-reporting
DTSTART;VALUE=DATE:20240522
DTEND;VALUE=DATE:20240523
END:VEVENT
END:VCALENDAR
