BEGIN:VCALENDAR
VERSION:2.0
PRODID:SchoolNow
CALSCALE:GREGORIAN
BEGIN:VEVENT
UID:be93ceaa-266e-11ee-8c3f-0a58a9feac02
DTSTAMP:20230719T195918Z
SUMMARY:KHS Field Day
URL;VALUE=URI:https://www.arbor145.org/calendar/4501321/khs-field-day
DTSTART;VALUE=DATE:20240529
DTEND;VALUE=DATE:20240530
END:VEVENT
END:VCALENDAR
