BEGIN:VCALENDAR
VERSION:2.0
PRODID:SchoolNow
CALSCALE:GREGORIAN
BEGIN:VEVENT
UID:cfb51d88-266e-11ee-9794-0a58a9feac02
DTSTAMP:20230719T195946Z
SUMMARY:KHS Last Day for PKP
URL;VALUE=URI:https://www.arbor145.org/calendar/4501322/khs-last-day-for-pk
 p
DTSTART;VALUE=DATE:20240529
DTEND;VALUE=DATE:20240530
END:VEVENT
END:VCALENDAR
