BEGIN:VCALENDAR
VERSION:2.0
PRODID:SchoolNow
CALSCALE:GREGORIAN
BEGIN:VEVENT
UID:e20001ec-266e-11ee-9ea9-0a58a9feac02
DTSTAMP:20230719T200017Z
SUMMARY:KHS Kindergarten Celebration
URL;VALUE=URI:https://www.arbor145.org/calendar/4501323/khs-kindergarten-ce
 lebration
DTSTART;VALUE=DATE:20240530
DTEND;VALUE=DATE:20240531
END:VEVENT
END:VCALENDAR
