BEGIN:VCALENDAR
VERSION:2.0
PRODID:SchoolNow
CALSCALE:GREGORIAN
BEGIN:VEVENT
UID:8a054ca8-266f-11ee-ade6-0a58a9feac02
DTSTAMP:20230719T200525Z
SUMMARY:Last Day of School - Half Day Dismissal Times
URL;VALUE=URI:https://www.arbor145.org/calendar/4501326/last-day-of-school-
 half-day-dismissal-times
DTSTART;VALUE=DATE:20240531
DTEND;VALUE=DATE:20240601
END:VEVENT
END:VCALENDAR
