BEGIN:VCALENDAR
VERSION:2.0
PRODID:SchoolNow
CALSCALE:GREGORIAN
BEGIN:VEVENT
UID:b860b5b4-2670-11ee-8c42-024120a62113
DTSTAMP:20230719T201326Z
SUMMARY:KHS 11:30am Dismissal
URL;VALUE=URI:https://www.arbor145.org/calendar/4501502/khs-11-30am-dismiss
 al
DTSTART;VALUE=DATE:20240531
DTEND;VALUE=DATE:20240601
END:VEVENT
END:VCALENDAR
