BEGIN:VCALENDAR
VERSION:2.0
PRODID:SchoolNow
CALSCALE:GREGORIAN
BEGIN:VEVENT
UID:ce67a394-2671-11ee-84a3-0a32f09d2d93
DTSTAMP:20230719T202136Z
SUMMARY:SOS Curriculum NIght
URL;VALUE=URI:https://www.arbor145.org/calendar/4501736/sos-curriculum-nigh
 t
DTSTART;VALUE=DATE:20230829
DTEND;VALUE=DATE:20230830
END:VEVENT
END:VCALENDAR
