BEGIN:VCALENDAR
VERSION:2.0
PRODID:SchoolNow
CALSCALE:GREGORIAN
BEGIN:VEVENT
UID:02ccd2b2-2672-11ee-a96d-0a58a9feac02
DTSTAMP:20230719T202241Z
SUMMARY:SOS Picture Day
URL;VALUE=URI:https://www.arbor145.org/calendar/4501737/sos-picture-day
DTSTART;VALUE=DATE:20230919
DTEND;VALUE=DATE:20230920
END:VEVENT
END:VCALENDAR
