BEGIN:VCALENDAR
VERSION:2.0
PRODID:SchoolNow
CALSCALE:GREGORIAN
BEGIN:VEVENT
UID:0efaa726-2672-11ee-a74e-02391457e42b
DTSTAMP:20230719T202301Z
SUMMARY:SOS Picture Retakes
URL;VALUE=URI:https://www.arbor145.org/calendar/4501738/sos-picture-retakes
DTSTART;VALUE=DATE:20231114
DTEND;VALUE=DATE:20231115
END:VEVENT
END:VCALENDAR
