BEGIN:VCALENDAR
VERSION:2.0
PRODID:SchoolNow
CALSCALE:GREGORIAN
BEGIN:VEVENT
UID:1de56f50-2672-11ee-b003-0a2b130c3785
DTSTAMP:20230719T202326Z
SUMMARY:SOS Spring Pictures
URL;VALUE=URI:https://www.arbor145.org/calendar/4501739/sos-spring-pictures
DTSTART;VALUE=DATE:20240425
DTEND;VALUE=DATE:20240426
END:VEVENT
END:VCALENDAR
