BEGIN:VCALENDAR
VERSION:2.0
PRODID:SchoolNow
CALSCALE:GREGORIAN
BEGIN:VEVENT
UID:2ef923f4-2672-11ee-9331-0a58a9feac02
DTSTAMP:20230719T202355Z
SUMMARY:SOS Field Day
URL;VALUE=URI:https://www.arbor145.org/calendar/4501740/sos-field-day
DTSTART;VALUE=DATE:20240524
DTEND;VALUE=DATE:20240525
END:VEVENT
END:VCALENDAR
