BEGIN:VCALENDAR
VERSION:2.0
PRODID:SchoolNow
CALSCALE:GREGORIAN
BEGIN:VEVENT
UID:d60d707a-2733-11ee-9759-0a58a9feac02
DTSTAMP:20230720T193136Z
SUMMARY:AES Move in Night
URL;VALUE=URI:https://www.arbor145.org/calendar/4502309/aes-move-i-night
DTSTART:20230821T210000Z
DTEND:20230821T223000Z
END:VEVENT
END:VCALENDAR
