BEGIN:VCALENDAR
VERSION:2.0
PRODID:SchoolNow
CALSCALE:GREGORIAN
BEGIN:VEVENT
UID:e524d0a8-2733-11ee-91c6-029af40bd955
DTSTAMP:20230720T193033Z
SUMMARY:AES Star Testing
URL;VALUE=URI:https://www.arbor145.org/calendar/4502310/aes-star-testing
DTSTART;VALUE=DATE:20230906
DTEND;VALUE=DATE:20230909
END:VEVENT
END:VCALENDAR
