BEGIN:VCALENDAR
VERSION:2.0
PRODID:SchoolNow
CALSCALE:GREGORIAN
BEGIN:VEVENT
UID:fd635b44-2733-11ee-b386-0a58a9feac02
DTSTAMP:20230720T193114Z
SUMMARY:AES Picture Day
URL;VALUE=URI:https://www.arbor145.org/calendar/4502311/aes-picture-day
DTSTART;VALUE=DATE:20230912
DTEND;VALUE=DATE:20230913
END:VEVENT
END:VCALENDAR
