BEGIN:VCALENDAR
VERSION:2.0
PRODID:SchoolNow
CALSCALE:GREGORIAN
BEGIN:VEVENT
UID:226eefa2-2734-11ee-acf5-0a32f09d2d93
DTSTAMP:20230720T193228Z
SUMMARY:AES Halloween Parade
URL;VALUE=URI:https://www.arbor145.org/calendar/4502312/aes-halloween-parad
 e
DTSTART;VALUE=DATE:20231031
DTEND;VALUE=DATE:20231101
END:VEVENT
END:VCALENDAR
