BEGIN:VCALENDAR
VERSION:2.0
PRODID:SchoolNow
CALSCALE:GREGORIAN
BEGIN:VEVENT
UID:3d14f400-2734-11ee-9d53-0a58a9feac02
DTSTAMP:20230720T193301Z
SUMMARY:AES Picture Retakes
URL;VALUE=URI:https://www.arbor145.org/calendar/4502313/aes-picture-retakes
DTSTART;VALUE=DATE:20231017
DTEND;VALUE=DATE:20231018
END:VEVENT
END:VCALENDAR
