BEGIN:VCALENDAR
VERSION:2.0
PRODID:SchoolNow
CALSCALE:GREGORIAN
BEGIN:VEVENT
UID:66fff710-2734-11ee-8941-0a32f09d2d93
DTSTAMP:20231107T204737Z
SUMMARY:AES Family Reading Night
URL;VALUE=URI:https://www.arbor145.org/calendar/4502314/aes-family-reading-
 night
DTSTART:20231116T233000Z
DTEND:20231117T010000Z
END:VEVENT
END:VCALENDAR
