BEGIN:VCALENDAR
VERSION:2.0
PRODID:SchoolNow
CALSCALE:GREGORIAN
BEGIN:VEVENT
UID:91a38e28-2734-11ee-98ef-0a32f09d2d93
DTSTAMP:20230720T193716Z
SUMMARY:AES Book Fair
URL;VALUE=URI:https://www.arbor145.org/calendar/4502315/aes-book-fair
DTSTART;VALUE=DATE:20231116
DTEND;VALUE=DATE:20231118
END:VEVENT
END:VCALENDAR
