BEGIN:VCALENDAR
VERSION:2.0
PRODID:SchoolNow
CALSCALE:GREGORIAN
BEGIN:VEVENT
UID:c5e35b28-2734-11ee-bb75-0a2b130c3785
DTSTAMP:20230720T193650Z
SUMMARY:AES Book Fair
URL;VALUE=URI:https://www.arbor145.org/calendar/4502316/aes-book-fair
DTSTART;VALUE=DATE:20231120
DTEND;VALUE=DATE:20231122
END:VEVENT
END:VCALENDAR
