BEGIN:VCALENDAR
VERSION:2.0
PRODID:SchoolNow
CALSCALE:GREGORIAN
BEGIN:VEVENT
UID:f80ae972-2734-11ee-beaf-0a58a9feac02
DTSTAMP:20230720T193814Z
SUMMARY:AES Star 360 Testing
URL;VALUE=URI:https://www.arbor145.org/calendar/4502317/aes-star-360-testin
 g
DTSTART;VALUE=DATE:20240117
DTEND;VALUE=DATE:20240120
END:VEVENT
END:VCALENDAR
