BEGIN:VCALENDAR
VERSION:2.0
PRODID:SchoolNow
CALSCALE:GREGORIAN
BEGIN:VEVENT
UID:0b1ec722-2735-11ee-a94d-0a58a9feac02
DTSTAMP:20230720T193846Z
SUMMARY:AES Science Fair
URL;VALUE=URI:https://www.arbor145.org/calendar/4502318/aes-science-fair
DTSTART;VALUE=DATE:20240412
DTEND;VALUE=DATE:20240413
END:VEVENT
END:VCALENDAR
