BEGIN:VCALENDAR
VERSION:2.0
PRODID:SchoolNow
CALSCALE:GREGORIAN
BEGIN:VEVENT
UID:2c101e36-2735-11ee-8521-0a58a9feac02
DTSTAMP:20240402T133854Z
SUMMARY:AES Spring Pictures
URL;VALUE=URI:https://www.arbor145.org/calendar/4502319/aes-spring-pictures
DTSTART;VALUE=DATE:20240404
DTEND;VALUE=DATE:20240405
END:VEVENT
END:VCALENDAR
