BEGIN:VCALENDAR
VERSION:2.0
PRODID:SchoolNow
CALSCALE:GREGORIAN
BEGIN:VEVENT
UID:494c1720-2735-11ee-bb19-0a58a9feac02
DTSTAMP:20230720T194031Z
SUMMARY:AES Star 360 Testing
URL;VALUE=URI:https://www.arbor145.org/calendar/4502320/aes-star-360-testin
 g
DTSTART;VALUE=DATE:20240507
DTEND;VALUE=DATE:20240510
END:VEVENT
END:VCALENDAR
