BEGIN:VCALENDAR
VERSION:2.0
PRODID:SchoolNow
CALSCALE:GREGORIAN
BEGIN:VEVENT
UID:6c0d3d48-2735-11ee-ba2a-0a58a9feac02
DTSTAMP:20230720T194906Z
SUMMARY:AES Book Fair
URL;VALUE=URI:https://www.arbor145.org/calendar/4502321/aes-book-fair
DTSTART;VALUE=DATE:20240513
DTEND;VALUE=DATE:20240518
END:VEVENT
END:VCALENDAR
