BEGIN:VCALENDAR
VERSION:2.0
PRODID:SchoolNow
CALSCALE:GREGORIAN
BEGIN:VEVENT
UID:b93d3712-2735-11ee-8d4c-0a58a9feac02
DTSTAMP:20230720T194338Z
SUMMARY:AES Parent Meeting for Circus Day
URL;VALUE=URI:https://www.arbor145.org/calendar/4502322/aes-parent-meeting-
 for-circus-day
DTSTART:20240514T230000Z
DTEND:20240515T010000Z
END:VEVENT
END:VCALENDAR
