BEGIN:VCALENDAR
VERSION:2.0
PRODID:SchoolNow
CALSCALE:GREGORIAN
BEGIN:VEVENT
UID:d4bc0f40-2735-11ee-b397-0a58a9feac02
DTSTAMP:20230720T194452Z
SUMMARY:AES Circus Day
URL;VALUE=URI:https://www.arbor145.org/calendar/4502323/aes-circus-day
DTSTART;VALUE=DATE:20240515
DTEND;VALUE=DATE:20240516
END:VEVENT
END:VCALENDAR
