BEGIN:VCALENDAR
VERSION:2.0
PRODID:SchoolNow
CALSCALE:GREGORIAN
BEGIN:VEVENT
UID:fcadf720-2735-11ee-8426-029af40bd955
DTSTAMP:20240502T181852Z
SUMMARY:AES Field Day
URL;VALUE=URI:https://www.arbor145.org/calendar/4502324/aes-field-day
DTSTART;VALUE=DATE:20240521
DTEND;VALUE=DATE:20240522
END:VEVENT
END:VCALENDAR
