BEGIN:VCALENDAR
VERSION:2.0
PRODID:SchoolNow
CALSCALE:GREGORIAN
BEGIN:VEVENT
UID:65c2be48-2737-11ee-b1e5-024120a62113
DTSTAMP:20230720T195537Z
SUMMARY:SOS 12:00pm Dismissal
URL;VALUE=URI:https://www.arbor145.org/calendar/4502326/sos-12-00pm-dismiss
 al
DTSTART;VALUE=DATE:20240531
DTEND;VALUE=DATE:20240601
END:VEVENT
END:VCALENDAR
