BEGIN:VCALENDAR
VERSION:2.0
PRODID:SchoolNow
CALSCALE:GREGORIAN
BEGIN:VEVENT
UID:81f374a4-2737-11ee-a6e5-024120a62113
DTSTAMP:20230720T195625Z
SUMMARY:APMS 11:00am Dismissal
URL;VALUE=URI:https://www.arbor145.org/calendar/4502327/apms-11-00am-dismis
 sal
DTSTART;VALUE=DATE:20240531
DTEND;VALUE=DATE:20240601
END:VEVENT
END:VCALENDAR
