BEGIN:VCALENDAR
VERSION:2.0
PRODID:SchoolNow
CALSCALE:GREGORIAN
BEGIN:VEVENT
UID:9a5904e6-2737-11ee-8f5b-0a58a9feac02
DTSTAMP:20230720T195706Z
SUMMARY:AES 12:30pm Dismissal
URL;VALUE=URI:https://www.arbor145.org/calendar/4502395/aes-12-30pm-dismiss
 al
DTSTART;VALUE=DATE:20240531
DTEND;VALUE=DATE:20240601
END:VEVENT
END:VCALENDAR
