BEGIN:VCALENDAR
VERSION:2.0
PRODID:SchoolNow
CALSCALE:GREGORIAN
BEGIN:VEVENT
UID:ea123c04-2738-11ee-a95a-0a58a9feac02
DTSTAMP:20230720T200629Z
SUMMARY:APMS Locker Prep
URL;VALUE=URI:https://www.arbor145.org/calendar/4502851/apms-locker-prep
DTSTART:20230817T200000Z
DTEND:20230818T000000Z
END:VEVENT
END:VCALENDAR
