BEGIN:VCALENDAR
VERSION:2.0
PRODID:SchoolNow
CALSCALE:GREGORIAN
BEGIN:VEVENT
UID:09e38754-2739-11ee-b46f-0a2b130c3785
DTSTAMP:20230720T200722Z
SUMMARY:Institute Day
URL;VALUE=URI:https://www.arbor145.org/calendar/4502852/institute-day
DTSTART:20230821T130000Z
DTEND:20230821T200000Z
END:VEVENT
END:VCALENDAR
