BEGIN:VCALENDAR
VERSION:2.0
PRODID:SchoolNow
CALSCALE:GREGORIAN
BEGIN:VEVENT
UID:22bb77c8-2739-11ee-a0b6-0a58a9feac02
DTSTAMP:20230720T200804Z
SUMMARY:Institue Day
URL;VALUE=URI:https://www.arbor145.org/calendar/4502853/institue-day
DTSTART:20230822T130000Z
DTEND:20230822T183000Z
END:VEVENT
END:VCALENDAR
